BEGIN:VCALENDAR
VERSION:2.0
PRODID:-//Hamburg Guide - ECPv6.15.12.2//NONSGML v1.0//EN
CALSCALE:GREGORIAN
METHOD:PUBLISH
X-WR-CALNAME:Hamburg Guide
X-ORIGINAL-URL:https://hhguide.de
X-WR-CALDESC:Veranstaltungen für Hamburg Guide
REFRESH-INTERVAL;VALUE=DURATION:PT1H
X-Robots-Tag:noindex
X-PUBLISHED-TTL:PT1H
BEGIN:VTIMEZONE
TZID:Europe/Berlin
BEGIN:DAYLIGHT
TZOFFSETFROM:+0100
TZOFFSETTO:+0200
TZNAME:CEST
DTSTART:20210328T010000
END:DAYLIGHT
BEGIN:STANDARD
TZOFFSETFROM:+0200
TZOFFSETTO:+0100
TZNAME:CET
DTSTART:20211031T010000
END:STANDARD
BEGIN:DAYLIGHT
TZOFFSETFROM:+0100
TZOFFSETTO:+0200
TZNAME:CEST
DTSTART:20220327T010000
END:DAYLIGHT
BEGIN:STANDARD
TZOFFSETFROM:+0200
TZOFFSETTO:+0100
TZNAME:CET
DTSTART:20221030T010000
END:STANDARD
BEGIN:DAYLIGHT
TZOFFSETFROM:+0100
TZOFFSETTO:+0200
TZNAME:CEST
DTSTART:20230326T010000
END:DAYLIGHT
BEGIN:STANDARD
TZOFFSETFROM:+0200
TZOFFSETTO:+0100
TZNAME:CET
DTSTART:20231029T010000
END:STANDARD
END:VTIMEZONE
BEGIN:VEVENT
DTSTART;TZID=Europe/Berlin:20220916T100000
DTEND;TZID=Europe/Berlin:20220916T170000
DTSTAMP:20260421T202126
CREATED:20220727T210034Z
LAST-MODIFIED:20220727T210034Z
UID:351932-1663322400-1663347600@hhguide.de
SUMMARY:Speicherstadtmuseum
DESCRIPTION:Griepen\, Kaffeesäcke\, Fässer und Zuckerklatschen: In einem Lagerhaus von 1888 wird veranschaulicht\, wie früher hochwertige Importgüter gelagert wurden. Weitere zentrale Themen sind der Tee- und Kaffeehandel und der Bau der Speicherstadt.
URL:https://hhguide.de/veranstaltung/speicherstadtmuseum/2022-09-16/
LOCATION:Speicherstadtmuseum\, Am Sandtorkai 36\, Hamburg\, 20457\, Deutschland
CATEGORIES:Ausstellungen,Ausstellungen
ATTACH;FMTTYPE=image/jpeg:https://hhguide.de/wp-content/uploads/2022/07/hafengeburtstag-quer_3-scaled.jpg
END:VEVENT
END:VCALENDAR